BEGIN:VCALENDAR
VERSION:2.0
PRODID:-//Ten Tigers Martial Arts Las Vegas - ECPv6.15.20//NONSGML v1.0//EN
CALSCALE:GREGORIAN
METHOD:PUBLISH
X-WR-CALNAME:Ten Tigers Martial Arts Las Vegas
X-ORIGINAL-URL:https://tentigersmartialarts.com
X-WR-CALDESC:Events for Ten Tigers Martial Arts Las Vegas
REFRESH-INTERVAL;VALUE=DURATION:PT1H
X-Robots-Tag:noindex
X-PUBLISHED-TTL:PT1H
BEGIN:VTIMEZONE
TZID:America/Los_Angeles
BEGIN:DAYLIGHT
TZOFFSETFROM:-0800
TZOFFSETTO:-0700
TZNAME:PDT
DTSTART:20230312T100000
END:DAYLIGHT
BEGIN:STANDARD
TZOFFSETFROM:-0700
TZOFFSETTO:-0800
TZNAME:PST
DTSTART:20231105T090000
END:STANDARD
BEGIN:DAYLIGHT
TZOFFSETFROM:-0800
TZOFFSETTO:-0700
TZNAME:PDT
DTSTART:20240310T100000
END:DAYLIGHT
BEGIN:STANDARD
TZOFFSETFROM:-0700
TZOFFSETTO:-0800
TZNAME:PST
DTSTART:20241103T090000
END:STANDARD
BEGIN:DAYLIGHT
TZOFFSETFROM:-0800
TZOFFSETTO:-0700
TZNAME:PDT
DTSTART:20250309T100000
END:DAYLIGHT
BEGIN:STANDARD
TZOFFSETFROM:-0700
TZOFFSETTO:-0800
TZNAME:PST
DTSTART:20251102T090000
END:STANDARD
END:VTIMEZONE
BEGIN:VEVENT
DTSTART;TZID=America/Los_Angeles:20240131T170000
DTEND;TZID=America/Los_Angeles:20240131T180000
DTSTAMP:20260425T185005
CREATED:20240128T201722Z
LAST-MODIFIED:20240128T201722Z
UID:10003735-1706720400-1706724000@tentigersmartialarts.com
SUMMARY:Teen Sessions - Wednesday
DESCRIPTION:Step into our dynamic Teen Martial Arts Session\, where youthful energy meets disciplined training. This specialized program is designed for teenagers\, offering a perfect blend of physical exercise and mental development. \nOur sessions focus on building strength\, enhancing agility\, and sharpening mental focus through martial arts techniques tailored for the teenage body and mind. As teens progress\, they’ll experience improved endurance\, muscle tone\, and cognitive sharpness. This full-body workout is adaptable for all skill levels\, providing a stimulating and varied experience in every class. \nMore than just physical training\, our martial arts sessions cultivate mental resilience. We teach teens to develop patience\, self-confidence\, and discipline\, applying these skills in everyday life. Our training encourages them to face challenges head-on and use their energy constructively\, fostering personal growth both in and out of the dojo. \nIn terms of coordination\, our program specifically targets the developmental needs of teenagers. By practicing precise martial arts techniques\, teens enhance their hand-eye coordination\, balance\, and reaction times\, skills that are beneficial in martial arts and other sports or activities. \nSuitable for beginners or those with martial arts experience\, our Teen Martial Arts Session is an engaging and rewarding way for teenagers to harness their potential. Join us to unlock the transformative power of martial arts for teens today!
URL:https://tentigersmartialarts.com/event/teen-sessions-2/
LOCATION:Ten Tigers Martial Arts\, 6985 W Sahara Ave\, Las Vegas\, NV\, 89117\, United States
CATEGORIES:Adult Sessions
ATTACH;FMTTYPE=image/png:https://tentigersmartialarts.com/wp-content/uploads/2023/06/teen-and-adults-program.png
ORGANIZER;CN="Kellan Jenkins":MAILTO:info@tentigersmartialarts.com
END:VEVENT
END:VCALENDAR