BEGIN:VCALENDAR
VERSION:2.0
PRODID:-//Ten Tigers Martial Arts Las Vegas - ECPv6.15.20//NONSGML v1.0//EN
CALSCALE:GREGORIAN
METHOD:PUBLISH
X-WR-CALNAME:Ten Tigers Martial Arts Las Vegas
X-ORIGINAL-URL:https://tentigersmartialarts.com
X-WR-CALDESC:Events for Ten Tigers Martial Arts Las Vegas
REFRESH-INTERVAL;VALUE=DURATION:PT1H
X-Robots-Tag:noindex
X-PUBLISHED-TTL:PT1H
BEGIN:VTIMEZONE
TZID:America/Los_Angeles
BEGIN:DAYLIGHT
TZOFFSETFROM:-0800
TZOFFSETTO:-0700
TZNAME:PDT
DTSTART:20250309T100000
END:DAYLIGHT
BEGIN:STANDARD
TZOFFSETFROM:-0700
TZOFFSETTO:-0800
TZNAME:PST
DTSTART:20251102T090000
END:STANDARD
BEGIN:DAYLIGHT
TZOFFSETFROM:-0800
TZOFFSETTO:-0700
TZNAME:PDT
DTSTART:20260308T100000
END:DAYLIGHT
BEGIN:STANDARD
TZOFFSETFROM:-0700
TZOFFSETTO:-0800
TZNAME:PST
DTSTART:20261101T090000
END:STANDARD
BEGIN:DAYLIGHT
TZOFFSETFROM:-0800
TZOFFSETTO:-0700
TZNAME:PDT
DTSTART:20270314T100000
END:DAYLIGHT
BEGIN:STANDARD
TZOFFSETFROM:-0700
TZOFFSETTO:-0800
TZNAME:PST
DTSTART:20271107T090000
END:STANDARD
END:VTIMEZONE
BEGIN:VEVENT
DTSTART;TZID=America/Los_Angeles:20260416T170000
DTEND;TZID=America/Los_Angeles:20260416T180000
DTSTAMP:20260423T143846
CREATED:20240128T200935Z
LAST-MODIFIED:20240128T200935Z
UID:10001476-1776358800-1776362400@tentigersmartialarts.com
SUMMARY:Kids Sessions - Thursdays
DESCRIPTION:Step into a world where self-confidence\, discipline\, and physical fitness converge. Our “Rising Champions: Kids Martial Arts Session” is specially designed to foster not just martial arts skills\, but also core life skills in young minds. \nRegardless of age or fitness level\, each child will be engaged in a fun and safe environment\, learning a mix of martial arts techniques. Under the tutelage of our experienced instructors\, they will gain discipline through the rigors of structured learning\, techniques\, and drills. This will also serve as an avenue to develop their self-confidence as they progressively master new skills and overcome challenges\, both individually and in groups. \nA key component of our program is its physical fitness aspect. Your children will embark on an energetic journey\, improving their agility\, strength\, and endurance. Regular practice will promote good health\, balanced energy levels\, and an overall sense of well-being. \nIn our Kids Martial Arts Session\, we believe in nurturing the champion within every child. It is not just about the punches and kicks; it’s about preparing them for life’s battles. Here\, they’ll learn to stand tall\, be respectful\, and tackle obstacles with a can-do spirit. \nCome\, join us today\, and let’s guide your child on the path to become not just a martial artist\, but a well-rounded\, confident\, disciplined\, and fit individual.
URL:https://tentigersmartialarts.com/event/kids-sessions-thursdays/2026-04-16/
LOCATION:Ten Tigers Martial Arts\, 6985 W Sahara Ave\, Las Vegas\, NV\, 89117\, United States
CATEGORIES:Kids Sessions
ATTACH;FMTTYPE=image/png:https://tentigersmartialarts.com/wp-content/uploads/2023/06/martial-arts-for-kids.png
ORGANIZER;CN="Kellan Jenkins":MAILTO:info@tentigersmartialarts.com
END:VEVENT
END:VCALENDAR