BEGIN:VCALENDAR
VERSION:2.0
PRODID:-//Ten Tigers Martial Arts Las Vegas - ECPv6.15.20//NONSGML v1.0//EN
CALSCALE:GREGORIAN
METHOD:PUBLISH
X-ORIGINAL-URL:https://tentigersmartialarts.com
X-WR-CALDESC:Events for Ten Tigers Martial Arts Las Vegas
REFRESH-INTERVAL;VALUE=DURATION:PT1H
X-Robots-Tag:noindex
X-PUBLISHED-TTL:PT1H
BEGIN:VTIMEZONE
TZID:America/Los_Angeles
BEGIN:DAYLIGHT
TZOFFSETFROM:-0800
TZOFFSETTO:-0700
TZNAME:PDT
DTSTART:20250309T100000
END:DAYLIGHT
BEGIN:STANDARD
TZOFFSETFROM:-0700
TZOFFSETTO:-0800
TZNAME:PST
DTSTART:20251102T090000
END:STANDARD
BEGIN:DAYLIGHT
TZOFFSETFROM:-0800
TZOFFSETTO:-0700
TZNAME:PDT
DTSTART:20260308T100000
END:DAYLIGHT
BEGIN:STANDARD
TZOFFSETFROM:-0700
TZOFFSETTO:-0800
TZNAME:PST
DTSTART:20261101T090000
END:STANDARD
BEGIN:DAYLIGHT
TZOFFSETFROM:-0800
TZOFFSETTO:-0700
TZNAME:PDT
DTSTART:20270314T100000
END:DAYLIGHT
BEGIN:STANDARD
TZOFFSETFROM:-0700
TZOFFSETTO:-0800
TZNAME:PST
DTSTART:20271107T090000
END:STANDARD
END:VTIMEZONE
BEGIN:VEVENT
DTSTART;TZID=America/Los_Angeles:20260513T190000
DTEND;TZID=America/Los_Angeles:20260513T200000
DTSTAMP:20260423T111059
CREATED:20240128T201248Z
LAST-MODIFIED:20240128T201248Z
UID:10002784-1778698800-1778702400@tentigersmartialarts.com
SUMMARY:Adult Sessions - Wednesday
DESCRIPTION:Step into our invigorating Adult Martial Arts Session\, where your physical prowess meets mental discipline. This unique program is designed to cater to the specific needs of adults who seek not only a rigorous physical workout\, but also a method to channel their energy into something both beneficial and constructive. \nOur program focuses on strengthening the body\, sharpening the mind\, and improving coordination through a series of carefully structured martial arts techniques. As you progress through each session\, expect to feel your stamina increase\, your body tone\, and your mind sharpen. This full-body workout caters to all fitness levels and will challenge you in new\, exciting ways every time you step onto the mat. \nBeyond just physical fitness\, our martial arts training also fosters mental strength. Through the practice of martial arts techniques\, our sessions aim to build resilience\, patience\, and self-confidence. You’ll learn how to apply discipline and focus not only in the dojo\, but also in your daily life. Our sessions will help you embrace challenges and channel your energy positively\, helping you overcome obstacles both on and off the mat. \nIn terms of coordination\, our martial arts session will fine-tune your motor skills. By learning how to execute precise martial arts moves\, you will be enhancing your hand-eye coordination\, balance\, and reaction times. This will prove invaluable not just in martial arts but in other sports and activities as well. \nWhether you’re a complete beginner or an experienced martial artist\, our Adult Martial Arts Session is sure to offer you a challenging yet fulfilling experience. Join us and discover the transformative power of martial arts today!
URL:https://tentigersmartialarts.com/event/adult-sessions-wednesday/2026-05-13/
LOCATION:Ten Tigers Martial Arts\, 6985 W Sahara Ave\, Las Vegas\, NV\, 89117\, United States
CATEGORIES:Adult Sessions
ATTACH;FMTTYPE=image/png:https://tentigersmartialarts.com/wp-content/uploads/2023/06/teen-and-adults-program.png
ORGANIZER;CN="Kellan Jenkins":MAILTO:info@tentigersmartialarts.com
END:VEVENT
END:VCALENDAR