BEGIN:VCALENDAR
VERSION:2.0
PRODID:-//Ten Tigers Martial Arts Las Vegas - ECPv6.15.20//NONSGML v1.0//EN
CALSCALE:GREGORIAN
METHOD:PUBLISH
X-ORIGINAL-URL:https://tentigersmartialarts.com
X-WR-CALDESC:Events for Ten Tigers Martial Arts Las Vegas
REFRESH-INTERVAL;VALUE=DURATION:PT1H
X-Robots-Tag:noindex
X-PUBLISHED-TTL:PT1H
BEGIN:VTIMEZONE
TZID:America/Los_Angeles
BEGIN:DAYLIGHT
TZOFFSETFROM:-0800
TZOFFSETTO:-0700
TZNAME:PDT
DTSTART:20240310T100000
END:DAYLIGHT
BEGIN:STANDARD
TZOFFSETFROM:-0700
TZOFFSETTO:-0800
TZNAME:PST
DTSTART:20241103T090000
END:STANDARD
BEGIN:DAYLIGHT
TZOFFSETFROM:-0800
TZOFFSETTO:-0700
TZNAME:PDT
DTSTART:20250309T100000
END:DAYLIGHT
BEGIN:STANDARD
TZOFFSETFROM:-0700
TZOFFSETTO:-0800
TZNAME:PST
DTSTART:20251102T090000
END:STANDARD
BEGIN:DAYLIGHT
TZOFFSETFROM:-0800
TZOFFSETTO:-0700
TZNAME:PDT
DTSTART:20260308T100000
END:DAYLIGHT
BEGIN:STANDARD
TZOFFSETFROM:-0700
TZOFFSETTO:-0800
TZNAME:PST
DTSTART:20261101T090000
END:STANDARD
END:VTIMEZONE
BEGIN:VEVENT
DTSTART;TZID=America/Los_Angeles:20251216T170000
DTEND;TZID=America/Los_Angeles:20251216T180000
DTSTAMP:20260423T172611
CREATED:20240128T200803Z
LAST-MODIFIED:20240128T200843Z
UID:10000937-1765904400-1765908000@tentigersmartialarts.com
SUMMARY:Kids Sessions - Tuesdays
DESCRIPTION:Step into a world where self-confidence\, discipline\, and physical fitness converge. Our “Rising Champions: Kids Martial Arts Session” is specially designed to foster not just martial arts skills\, but also core life skills in young minds. \nRegardless of age or fitness level\, each child will be engaged in a fun and safe environment\, learning a mix of martial arts techniques. Under the tutelage of our experienced instructors\, they will gain discipline through the rigors of structured learning\, techniques\, and drills. This will also serve as an avenue to develop their self-confidence as they progressively master new skills and overcome challenges\, both individually and in groups. \nA key component of our program is its physical fitness aspect. Your children will embark on an energetic journey\, improving their agility\, strength\, and endurance. Regular practice will promote good health\, balanced energy levels\, and an overall sense of well-being. \nIn our Kids Martial Arts Session\, we believe in nurturing the champion within every child. It is not just about the punches and kicks; it’s about preparing them for life’s battles. Here\, they’ll learn to stand tall\, be respectful\, and tackle obstacles with a can-do spirit. \nCome\, join us today\, and let’s guide your child on the path to become not just a martial artist\, but a well-rounded\, confident\, disciplined\, and fit individual.
URL:https://tentigersmartialarts.com/event/kids-sessions-2/2025-12-16/
LOCATION:Ten Tigers Martial Arts\, 6985 W Sahara Ave\, Las Vegas\, NV\, 89117\, United States
CATEGORIES:Kids Sessions
ATTACH;FMTTYPE=image/png:https://tentigersmartialarts.com/wp-content/uploads/2023/06/martial-arts-for-kids.png
ORGANIZER;CN="Kellan Jenkins":MAILTO:info@tentigersmartialarts.com
END:VEVENT
BEGIN:VEVENT
DTSTART;TZID=America/Los_Angeles:20251216T190000
DTEND;TZID=America/Los_Angeles:20251216T200000
DTSTAMP:20260423T172611
CREATED:20240128T201222Z
LAST-MODIFIED:20240128T201222Z
UID:10002241-1765911600-1765915200@tentigersmartialarts.com
SUMMARY:Adult Sessions - Tuesday
DESCRIPTION:Step into our invigorating Adult Martial Arts Session\, where your physical prowess meets mental discipline. This unique program is designed to cater to the specific needs of adults who seek not only a rigorous physical workout\, but also a method to channel their energy into something both beneficial and constructive. \nOur program focuses on strengthening the body\, sharpening the mind\, and improving coordination through a series of carefully structured martial arts techniques. As you progress through each session\, expect to feel your stamina increase\, your body tone\, and your mind sharpen. This full-body workout caters to all fitness levels and will challenge you in new\, exciting ways every time you step onto the mat. \nBeyond just physical fitness\, our martial arts training also fosters mental strength. Through the practice of martial arts techniques\, our sessions aim to build resilience\, patience\, and self-confidence. You’ll learn how to apply discipline and focus not only in the dojo\, but also in your daily life. Our sessions will help you embrace challenges and channel your energy positively\, helping you overcome obstacles both on and off the mat. \nIn terms of coordination\, our martial arts session will fine-tune your motor skills. By learning how to execute precise martial arts moves\, you will be enhancing your hand-eye coordination\, balance\, and reaction times. This will prove invaluable not just in martial arts but in other sports and activities as well. \nWhether you’re a complete beginner or an experienced martial artist\, our Adult Martial Arts Session is sure to offer you a challenging yet fulfilling experience. Join us and discover the transformative power of martial arts today!
URL:https://tentigersmartialarts.com/event/adult-sessions-2/2025-12-16/
LOCATION:Ten Tigers Martial Arts\, 6985 W Sahara Ave\, Las Vegas\, NV\, 89117\, United States
CATEGORIES:Adult Sessions
ATTACH;FMTTYPE=image/png:https://tentigersmartialarts.com/wp-content/uploads/2023/06/teen-and-adults-program.png
ORGANIZER;CN="Kellan Jenkins":MAILTO:info@tentigersmartialarts.com
END:VEVENT
END:VCALENDAR